BEGIN:VCALENDAR
VERSION:2.0
PRODID:-//The Yocto Project - ECPv6.15.20//NONSGML v1.0//EN
CALSCALE:GREGORIAN
METHOD:PUBLISH
X-WR-CALNAME:The Yocto Project
X-ORIGINAL-URL:https://www.yoctoproject.org
X-WR-CALDESC:Events for The Yocto Project
REFRESH-INTERVAL;VALUE=DURATION:PT1H
X-Robots-Tag:noindex
X-PUBLISHED-TTL:PT1H
BEGIN:VTIMEZONE
TZID:UTC
BEGIN:STANDARD
TZOFFSETFROM:+0000
TZOFFSETTO:+0000
TZNAME:UTC
DTSTART:20240101T000000
END:STANDARD
END:VTIMEZONE
BEGIN:VTIMEZONE
TZID:Europe/Paris
BEGIN:DAYLIGHT
TZOFFSETFROM:+0100
TZOFFSETTO:+0200
TZNAME:CEST
DTSTART:20230326T010000
END:DAYLIGHT
BEGIN:STANDARD
TZOFFSETFROM:+0200
TZOFFSETTO:+0100
TZNAME:CET
DTSTART:20231029T010000
END:STANDARD
BEGIN:DAYLIGHT
TZOFFSETFROM:+0100
TZOFFSETTO:+0200
TZNAME:CEST
DTSTART:20240331T010000
END:DAYLIGHT
BEGIN:STANDARD
TZOFFSETFROM:+0200
TZOFFSETTO:+0100
TZNAME:CET
DTSTART:20241027T010000
END:STANDARD
BEGIN:DAYLIGHT
TZOFFSETFROM:+0100
TZOFFSETTO:+0200
TZNAME:CEST
DTSTART:20250330T010000
END:DAYLIGHT
BEGIN:STANDARD
TZOFFSETFROM:+0200
TZOFFSETTO:+0100
TZNAME:CET
DTSTART:20251026T010000
END:STANDARD
END:VTIMEZONE
BEGIN:VEVENT
DTSTART;TZID=UTC:20260219T080000
DTEND;TZID=UTC:20260225T170000
DTSTAMP:20260420T164912
CREATED:20260109T112720Z
LAST-MODIFIED:20260109T112720Z
UID:10000112-1771488000-1772038800@www.yoctoproject.org
SUMMARY:Linux embedded e Yocto Project – Corso online – FEB2026
DESCRIPTION:Our most popular ‘combo‘ online course because in just five afternoons (online) or four full days (in-person)\, you can learn everything you need to begin to cross compile the Linux Kernel for an ARM card and use Yocto Project to generate recipes and custom layers.\nBasic course aimed at beginners with a minimum knowledge of Linux\, it provides the information needed to configure and cross-compile the u-boot Bootloader and the Kernel.\nThis course also provides the information needed to configure and use Yocto Project (and Openembedded)\, git and bitbake by creating an embeddded Linux distribution from scratch. Management of recipes in overlays with custom layers.\nLearn to build and manage embedded Linux systems with the Yocto Project and OpenEmbedded.\nIf you want to not waste time performing time-consuming tasks during the course\, this intensive course is perfect for you.\nIn order to save time\, some sections are shortened or skipped\, such as downloading the packages and the long initial compilation\, depending on the needs and interests of the participants.
URL:https://www.yoctoproject.org/event/linux-embedded-e-yocto-project-corso-online-feb2026/
LOCATION:Virtual
CATEGORIES:Yocto
ATTACH;FMTTYPE=image/png:https://www.yoctoproject.org/wp-content/uploads/sites/32/2026/01/Koan-carusel-pcb-ita-2024-singola.png
ORGANIZER;CN="KOAN":MAILTO:info@koansoftware.com
END:VEVENT
BEGIN:VEVENT
DTSTART;TZID=UTC:20251016T080000
DTEND;TZID=UTC:20251022T170000
DTSTAMP:20260420T164912
CREATED:20250904T091310Z
LAST-MODIFIED:20250904T091310Z
UID:10000076-1760601600-1761152400@www.yoctoproject.org
SUMMARY:KOAN – Embedded Linux & Yocto Project corso online
DESCRIPTION:Linux Embedded & Yocto training\nOur most popular ‘combo‘ online course because in just five afternoons (online) or four full days (in-person)\, you can learn everything you need to begin to cross compile the Linux Kernel for an ARM card and use Yocto Project to generate recipes and custom layers. \nBasic course aimed at beginners with a minimum knowledge of Linux\, it provides the information needed to configure and cross-compile the u-boot Bootloader and the Kernel. \nThis course also provides the information needed to configure and use Yocto Project (and Openembedded)\, git and bitbake by creating an embeddded Linux distribution from scratch. Management of recipes in overlays with custom layers.\nLearn to build and manage embedded Linux systems with the Yocto Project and OpenEmbedded.\nIf you want to not waste time performing time-consuming tasks during the course\, this intensive course is perfect for you.\nIn order to save time\, some sections are shortened or skipped\, such as downloading the packages and the long initial compilation\, depending on the needs and interests of the participants.
URL:https://www.yoctoproject.org/event/koan-embedded-linux-yocto-project-corso-online-2/
LOCATION:Virtual
CATEGORIES:Yocto
ATTACH;FMTTYPE=image/png:https://www.yoctoproject.org/wp-content/uploads/sites/32/2025/09/Koan-carusel-pagina-singola.png
ORGANIZER;CN="KOAN":MAILTO:info@koansoftware.com
END:VEVENT
BEGIN:VEVENT
DTSTART;TZID=UTC:20250630T140000
DTEND;TZID=UTC:20250704T180000
DTSTAMP:20260420T164912
CREATED:20250521T065816Z
LAST-MODIFIED:20250521T065816Z
UID:10000060-1751292000-1751652000@www.yoctoproject.org
SUMMARY:KOAN – Embedded Linux & Yocto Project corso online
DESCRIPTION:🚀 Nuova data disponibile a LUGLIO!\nIl nostro corso ONLINE in ITALIANO 🇮🇹 su Linux Embedded 🐧 e Yocto Project torna con una nuova edizione aggiornata! \n👉 Il corso fa parte di un nuovo format che utilizza come riferimento le architetture NXP i.MX8 e QemuARM64 (al posto della classica BeagleBone con QemuARM32). \n📚 Due moduli pensati per ogni livello di esperienza:\n🔹 Corso completo (Linux + Yocto) – 5 pomeriggi\n🔹 Solo modulo Yocto – 3 pomeriggi \n🗓️ Date: dal 30 Giugno al 4 Luglio 2025 \nDurante il corso imparerai a:\n✔️ Configurare un sistema Linux embedded\n✔️ Usare Yocto Project\, OpenEmbedded\, git e bitbake\n✔️ Creare da zero una distribuzione Linux personalizzata
URL:https://www.yoctoproject.org/event/koan-embedded-linux-yocto-project-corso-online/
LOCATION:Virtual
CATEGORIES:Yocto
ATTACH;FMTTYPE=image/png:https://www.yoctoproject.org/wp-content/uploads/sites/32/2025/05/Koan-carusel-pcb-ita-2024-singola.png
ORGANIZER;CN="KOAN":MAILTO:info@koansoftware.com
END:VEVENT
BEGIN:VEVENT
DTSTART;TZID=UTC:20250515T140000
DTEND;TZID=UTC:20250521T180000
DTSTAMP:20260420T164912
CREATED:20250406T114721Z
LAST-MODIFIED:20250406T114721Z
UID:10000052-1747317600-1747850400@www.yoctoproject.org
SUMMARY:KOAN - Embedded Linux & Yocto Project online training
DESCRIPTION:We have scheduled a new session in May for our ONLINE course dedicated to Embedded Linux and the Yocto Project! 🚀 \nThis updated format will focus on NXP i.MX8 and QemuARM64. \n🛠️ Course Structure:\n✅ Full course (Linux + Yocto) – 5 afternoons (CET timezone)\n✅ Yocto-only module – 3 afternoons (CET timezone) \n📅 Dates: May 15-21\, 2024 \n🔹 Learn how to configure and use Linux\, the Yocto Project (with OpenEmbedded)\, git\, and bitbake to build an embedded Linux distribution from scratch. \n📌 More details at the link below\, or feel free to reach out for more info! \nThis course provides the essential knowledge to set up and use Linux and the Yocto Project (with OpenEmbedded)\, git\, and bitbake\, enabling you to build an embedded Linux distribution from scratch
URL:https://www.yoctoproject.org/event/koan-embedded-linux-yocto-project-online-training/
LOCATION:Virtual
CATEGORIES:Yocto
ATTACH;FMTTYPE=image/png:https://www.yoctoproject.org/wp-content/uploads/sites/32/2025/04/Koan-carusel-pcb-eng-2025-pagina-singola.png
ORGANIZER;CN="KOAN":MAILTO:info@koansoftware.com
END:VEVENT
BEGIN:VEVENT
DTSTART;TZID=UTC:20250220T140000
DTEND;TZID=UTC:20250226T180000
DTSTAMP:20260420T164912
CREATED:20250114T083206Z
LAST-MODIFIED:20250114T083206Z
UID:10000022-1740060000-1740592800@www.yoctoproject.org
SUMMARY:Linux embedded e Yocto Project – Corso online – FEB2025
DESCRIPTION:Abbiamo pubblicato per il mese di FEBBRAIO 2025 il corso KOAN che si svolgerà ONLINE in ITALIANO 🇮🇹 dedicato a Linux embedded 🐧 e Yocto Project. \nIl corso fa parte di un nuovo formato dove verrà presa in esame l’architettura NXP Semiconductors i.MX8 e QuemuARM64. \nIl corso è suddiviso in due parti per soddisfare sviluppatori più o meno esperti ed è possibile scegliere se partecipare al corso completo (Linux+Yocto) di 5 pomeriggi o solo ai 3 pomeriggi dedicati esclusivamente a Yocto. \nLe date sono 20-21 Febbraio per Linux embedded e 24\,25\,26 Febbraio per The Yocto Project\, A Linux Foundation Project \nQuesto corso fornisce le informazioni necessarie per configurare e utilizzare Linux e Yocto Project (e Openembedded)\, git e bitbake creando una distribuzione Linux embedded da zero. \nTutti i dettagli si trovano nel link seguente\, oppure contattaci per maggiori informazioni. \nhttps://koansoftware.com/training/linux-embedded-e-yocto-project-corso-online-feb2025/ \n🇺🇸 Note for English speakers: would you like to attend this course in English?\n🇬🇧 We are planning new dates for this! Contact us for more details. \n#corso #formazione #linux #embedded #yocto #openembedded #koan #koansoftware
URL:https://www.yoctoproject.org/event/linux-embedded-e-yocto-project-corso-online-feb2025/
LOCATION:Virtual
CATEGORIES:Yocto
ATTACH;FMTTYPE=image/png:https://www.yoctoproject.org/wp-content/uploads/sites/32/2025/01/Koan-carusel-pcb-ita-2024-singola.png
ORGANIZER;CN="KOAN":MAILTO:info@koansoftware.com
END:VEVENT
BEGIN:VEVENT
DTSTART;VALUE=DATE:20241204
DTEND;VALUE=DATE:20241212
DTSTAMP:20260420T164912
CREATED:20241126T062139Z
LAST-MODIFIED:20241126T062139Z
UID:10000017-1733270400-1733961599@www.yoctoproject.org
SUMMARY:Linux embedded e Yocto Project corso in Italiano
DESCRIPTION:Abbiamo pubblicato l’ultima data del 2024\, nel mese di DICEMBRE per il corso KOAN che si svolgerà ONLINE in ITALIANO 🇮🇹 dedicato a Linux embedded 🐧 e Yocto Project. \nIl corso fa parte di un nuovo formato dove verrà presa in esame l’architettura NXP Semiconductors i.MX8 e QuemuARM64 (invece della BeagleBone con QemuARM32). \nIl corso è suddiviso in due parti per soddisfare sviluppatori più o meno esperti ed è possibile scegliere se partecipare al corso completo (Linux+Yocto) di 5 pomeriggi o solo ai 3 pomeriggi dedicati esclusivamente a Yocto. \nLe date sono 4-5 Dicembre per Linux embedded e 9\,10\,11 Dicembre per The Yocto Project\, A Linux Foundation Project \nQuesto corso fornisce le informazioni necessarie per configurare e utilizzare Linux e Yocto Project (e Openembedded)\, git e bitbake creando una distribuzione Linux embedded da zero.\nTutti i dettagli si trovano nel link seguente\, oppure contattaci per maggiori informazioni.
URL:https://www.yoctoproject.org/event/linux-embedded-e-yocto-project-corso-in-italiano/
LOCATION:Virtual
CATEGORIES:Yocto
ATTACH;FMTTYPE=image/png:https://www.yoctoproject.org/wp-content/uploads/sites/32/2024/11/Koan-carusel-pagina-singola.png
ORGANIZER;CN="KOAN":MAILTO:info@koansoftware.com
END:VEVENT
END:VCALENDAR