BEGIN:VCALENDAR
VERSION:2.0
PRODID:-//The Yocto Project - ECPv6.15.20//NONSGML v1.0//EN
CALSCALE:GREGORIAN
METHOD:PUBLISH
X-WR-CALNAME:The Yocto Project
X-ORIGINAL-URL:https://www.yoctoproject.org
X-WR-CALDESC:Events for The Yocto Project
REFRESH-INTERVAL;VALUE=DURATION:PT1H
X-Robots-Tag:noindex
X-PUBLISHED-TTL:PT1H
BEGIN:VTIMEZONE
TZID:UTC
BEGIN:STANDARD
TZOFFSETFROM:+0000
TZOFFSETTO:+0000
TZNAME:UTC
DTSTART:20240101T000000
END:STANDARD
END:VTIMEZONE
BEGIN:VTIMEZONE
TZID:Europe/Vienna
BEGIN:DAYLIGHT
TZOFFSETFROM:+0100
TZOFFSETTO:+0200
TZNAME:CEST
DTSTART:20240331T010000
END:DAYLIGHT
BEGIN:STANDARD
TZOFFSETFROM:+0200
TZOFFSETTO:+0100
TZNAME:CET
DTSTART:20241027T010000
END:STANDARD
BEGIN:DAYLIGHT
TZOFFSETFROM:+0100
TZOFFSETTO:+0200
TZNAME:CEST
DTSTART:20250330T010000
END:DAYLIGHT
BEGIN:STANDARD
TZOFFSETFROM:+0200
TZOFFSETTO:+0100
TZNAME:CET
DTSTART:20251026T010000
END:STANDARD
BEGIN:DAYLIGHT
TZOFFSETFROM:+0100
TZOFFSETTO:+0200
TZNAME:CEST
DTSTART:20260329T010000
END:DAYLIGHT
BEGIN:STANDARD
TZOFFSETFROM:+0200
TZOFFSETTO:+0100
TZNAME:CET
DTSTART:20261025T010000
END:STANDARD
END:VTIMEZONE
BEGIN:VEVENT
DTSTART;TZID=UTC:20251202T120000
DTEND;TZID=UTC:20251204T180000
DTSTAMP:20260420T071617
CREATED:20250912T202808Z
LAST-MODIFIED:20251126T092101Z
UID:10000079-1764676800-1764871200@www.yoctoproject.org
SUMMARY:Yocto Project Virtual Summit 2025.12
DESCRIPTION:The Yocto Project Virtual Summit is a virtual technical conference for engineers\, open source technologists\, students and academia that build and use Yocto Project and OpenEmbedded. This 3-day event is where individuals will learn about Yocto Projects’ direction — including\, but not limited to\, new releases\, development tools\, features — get training on the next wave of embedded Linux technologies\, and network with their industry peers\, Yocto Project and OpenEmbedded maintainers and experts. \nThe Yocto Project Virtual Summit includes workshops for engineers building customized Linux distributions and applications\, as well as an open forum where maintainers\, trainers\, and users present papers on how the project is evolving and how they are using it. \nRegistration for all attendees includes the Presentation Tracks on December 3 – 4 with the option to attend a complimentary Beginner Class or Hands-On session on December 2. Programming is from 12 – 18:00 UTC daily. SCHEDULE.              REGISTER NOW
URL:https://www.yoctoproject.org/event/virtual-summit-2025-12/
LOCATION:Virtual
CATEGORIES:Yocto
ATTACH;FMTTYPE=image/png:https://www.yoctoproject.org/wp-content/uploads/sites/32/2025/09/VIRTUAL-SUMMIT-3.png
END:VEVENT
BEGIN:VEVENT
DTSTART;TZID=Europe/Vienna:20251216T090000
DTEND;TZID=Europe/Vienna:20251219T170000
DTSTAMP:20260420T071617
CREATED:20250822T171320Z
LAST-MODIFIED:20250822T171320Z
UID:10000075-1765875600-1766163600@www.yoctoproject.org
SUMMARY:The Yocto Project – A thorough Overview – online\, instructor-led
DESCRIPTION:You’ll get a much better understanding of the Yocto Project and how to use it.
URL:https://www.yoctoproject.org/event/the-yocto-project-a-thorough-overview-online-instructor-led-6/
LOCATION:Virtual
ATTACH;FMTTYPE=image/png:https://www.yoctoproject.org/wp-content/uploads/sites/32/2025/08/1920x1080-yocto-back-white-online-new-3.png
ORGANIZER;CN="Reliable Embedded Systems":MAILTO:info@reliableembeddedsystems.com
END:VEVENT
END:VCALENDAR