BEGIN:VCALENDAR
VERSION:2.0
PRODID:-//The Yocto Project - ECPv6.15.20//NONSGML v1.0//EN
CALSCALE:GREGORIAN
METHOD:PUBLISH
X-WR-CALNAME:The Yocto Project
X-ORIGINAL-URL:https://www.yoctoproject.org
X-WR-CALDESC:Events for The Yocto Project
REFRESH-INTERVAL;VALUE=DURATION:PT1H
X-Robots-Tag:noindex
X-PUBLISHED-TTL:PT1H
BEGIN:VTIMEZONE
TZID:Europe/Vienna
BEGIN:DAYLIGHT
TZOFFSETFROM:+0100
TZOFFSETTO:+0200
TZNAME:CEST
DTSTART:20240331T010000
END:DAYLIGHT
BEGIN:STANDARD
TZOFFSETFROM:+0200
TZOFFSETTO:+0100
TZNAME:CET
DTSTART:20241027T010000
END:STANDARD
BEGIN:DAYLIGHT
TZOFFSETFROM:+0100
TZOFFSETTO:+0200
TZNAME:CEST
DTSTART:20250330T010000
END:DAYLIGHT
BEGIN:STANDARD
TZOFFSETFROM:+0200
TZOFFSETTO:+0100
TZNAME:CET
DTSTART:20251026T010000
END:STANDARD
BEGIN:DAYLIGHT
TZOFFSETFROM:+0100
TZOFFSETTO:+0200
TZNAME:CEST
DTSTART:20260329T010000
END:DAYLIGHT
BEGIN:STANDARD
TZOFFSETFROM:+0200
TZOFFSETTO:+0100
TZNAME:CET
DTSTART:20261025T010000
END:STANDARD
END:VTIMEZONE
BEGIN:VTIMEZONE
TZID:UTC
BEGIN:STANDARD
TZOFFSETFROM:+0000
TZOFFSETTO:+0000
TZNAME:UTC
DTSTART:20240101T000000
END:STANDARD
END:VTIMEZONE
BEGIN:VTIMEZONE
TZID:Asia/Shanghai
BEGIN:STANDARD
TZOFFSETFROM:+0800
TZOFFSETTO:+0800
TZNAME:CST
DTSTART:20240101T000000
END:STANDARD
END:VTIMEZONE
BEGIN:VEVENT
DTSTART;TZID=Europe/Vienna:20251006T090000
DTEND;TZID=Europe/Vienna:20251010T170000
DTSTAMP:20260424T002820
CREATED:20250818T194014Z
LAST-MODIFIED:20250818T194014Z
UID:10000070-1759741200-1760115600@www.yoctoproject.org
SUMMARY:Refresher to Embedded Linux & Intro to the Yocto Project – online\, instructor-led
DESCRIPTION:After a “Refresher to Embedded Linux (2 days)” you’ll see “How the Yocto Project works (3 days)”.
URL:https://www.yoctoproject.org/event/refresher-to-embedded-linux-intro-to-the-yocto-project-online-instructor-led-2/
LOCATION:Virtual
ATTACH;FMTTYPE=image/png:https://www.yoctoproject.org/wp-content/uploads/sites/32/2025/08/1920x1080-intely-back-white-online-new.png
ORGANIZER;CN="Reliable Embedded Systems":MAILTO:info@reliableembeddedsystems.com
END:VEVENT
BEGIN:VEVENT
DTSTART;TZID=Europe/Vienna:20251014T090000
DTEND;TZID=Europe/Vienna:20251017T170000
DTSTAMP:20260424T002820
CREATED:20250818T194039Z
LAST-MODIFIED:20250818T194039Z
UID:10000071-1760432400-1760720400@www.yoctoproject.org
SUMMARY:The Yocto Project – A thorough Overview – online\, instructor-led
DESCRIPTION:You’ll get a much better understanding of the Yocto Project and how to use it.
URL:https://www.yoctoproject.org/event/the-yocto-project-a-thorough-overview-online-instructor-led-4/
LOCATION:Virtual
ATTACH;FMTTYPE=image/png:https://www.yoctoproject.org/wp-content/uploads/sites/32/2025/08/1920x1080-yocto-back-white-online-new-1.png
ORGANIZER;CN="Reliable Embedded Systems":MAILTO:info@reliableembeddedsystems.com
END:VEVENT
BEGIN:VEVENT
DTSTART;TZID=UTC:20251016T080000
DTEND;TZID=UTC:20251022T170000
DTSTAMP:20260424T002820
CREATED:20250904T091310Z
LAST-MODIFIED:20250904T091310Z
UID:10000076-1760601600-1761152400@www.yoctoproject.org
SUMMARY:KOAN – Embedded Linux & Yocto Project corso online
DESCRIPTION:Linux Embedded & Yocto training\nOur most popular ‘combo‘ online course because in just five afternoons (online) or four full days (in-person)\, you can learn everything you need to begin to cross compile the Linux Kernel for an ARM card and use Yocto Project to generate recipes and custom layers. \nBasic course aimed at beginners with a minimum knowledge of Linux\, it provides the information needed to configure and cross-compile the u-boot Bootloader and the Kernel. \nThis course also provides the information needed to configure and use Yocto Project (and Openembedded)\, git and bitbake by creating an embeddded Linux distribution from scratch. Management of recipes in overlays with custom layers.\nLearn to build and manage embedded Linux systems with the Yocto Project and OpenEmbedded.\nIf you want to not waste time performing time-consuming tasks during the course\, this intensive course is perfect for you.\nIn order to save time\, some sections are shortened or skipped\, such as downloading the packages and the long initial compilation\, depending on the needs and interests of the participants.
URL:https://www.yoctoproject.org/event/koan-embedded-linux-yocto-project-corso-online-2/
LOCATION:Virtual
CATEGORIES:Yocto
ATTACH;FMTTYPE=image/png:https://www.yoctoproject.org/wp-content/uploads/sites/32/2025/09/Koan-carusel-pagina-singola.png
ORGANIZER;CN="KOAN":MAILTO:info@koansoftware.com
END:VEVENT
BEGIN:VEVENT
DTSTART;TZID=Asia/Shanghai:20251027T160000
DTEND;TZID=Asia/Shanghai:20251027T165500
DTSTAMP:20260424T002820
CREATED:20251009T165319Z
LAST-MODIFIED:20251009T165319Z
UID:10000083-1761580800-1761584100@www.yoctoproject.org
SUMMARY:ROS OpenEmbedded Community Group at ROSCon 2025
DESCRIPTION:Join us for an interactive Birds of a Feather session focused on using the Yocto Project and OpenEmbedded to build ROS and ROS 2 for embedded and edge platforms. We’ll explore the meta-ros layer\, share best practices for customizing Linux distributions\, and discuss opportunities for collaboration between the ROS and Yocto communities. Whether you’re already deploying ROS with Yocto or just curious about what’s possible\, this BoF is a great chance to connect\, ask questions\, and exchange ideas with fellow developers. \nCheck out the ROSCon 2025 schedule for a list of all the talks\, workshops\, and BoF sessions: https://roscon.ros.org/2025/ \nTo get started with ROS on OpenEmbedded\, check out last year’s talk from ROSCon 2024 ( https://roscon.ros.org/2024/talks/Accelerating_Robotics_Development_with_Embedded_Linux.pdf ) and download the meta-ros layer ( https://github.com/ros/meta-ros ) and
URL:https://www.yoctoproject.org/event/ros-openembedded-community-group-at-roscon-2025/
LOCATION:Suntec Singapore Convention & Exhibition Centre\, 1 Raffles Blvd\, 039593\, Singapore
CATEGORIES:Community,Yocto
END:VEVENT
END:VCALENDAR