BEGIN:VCALENDAR
VERSION:2.0
PRODID:-//The Yocto Project - ECPv6.15.20//NONSGML v1.0//EN
CALSCALE:GREGORIAN
METHOD:PUBLISH
X-WR-CALNAME:The Yocto Project
X-ORIGINAL-URL:https://www.yoctoproject.org
X-WR-CALDESC:Events for The Yocto Project
REFRESH-INTERVAL;VALUE=DURATION:PT1H
X-Robots-Tag:noindex
X-PUBLISHED-TTL:PT1H
BEGIN:VTIMEZONE
TZID:Europe/Paris
BEGIN:DAYLIGHT
TZOFFSETFROM:+0100
TZOFFSETTO:+0200
TZNAME:CEST
DTSTART:20240331T010000
END:DAYLIGHT
BEGIN:STANDARD
TZOFFSETFROM:+0200
TZOFFSETTO:+0100
TZNAME:CET
DTSTART:20241027T010000
END:STANDARD
BEGIN:DAYLIGHT
TZOFFSETFROM:+0100
TZOFFSETTO:+0200
TZNAME:CEST
DTSTART:20250330T010000
END:DAYLIGHT
BEGIN:STANDARD
TZOFFSETFROM:+0200
TZOFFSETTO:+0100
TZNAME:CET
DTSTART:20251026T010000
END:STANDARD
BEGIN:DAYLIGHT
TZOFFSETFROM:+0100
TZOFFSETTO:+0200
TZNAME:CEST
DTSTART:20260329T010000
END:DAYLIGHT
BEGIN:STANDARD
TZOFFSETFROM:+0200
TZOFFSETTO:+0100
TZNAME:CET
DTSTART:20261025T010000
END:STANDARD
END:VTIMEZONE
BEGIN:VTIMEZONE
TZID:Europe/Vienna
BEGIN:DAYLIGHT
TZOFFSETFROM:+0100
TZOFFSETTO:+0200
TZNAME:CEST
DTSTART:20240331T010000
END:DAYLIGHT
BEGIN:STANDARD
TZOFFSETFROM:+0200
TZOFFSETTO:+0100
TZNAME:CET
DTSTART:20241027T010000
END:STANDARD
BEGIN:DAYLIGHT
TZOFFSETFROM:+0100
TZOFFSETTO:+0200
TZNAME:CEST
DTSTART:20250330T010000
END:DAYLIGHT
BEGIN:STANDARD
TZOFFSETFROM:+0200
TZOFFSETTO:+0100
TZNAME:CET
DTSTART:20251026T010000
END:STANDARD
BEGIN:DAYLIGHT
TZOFFSETFROM:+0100
TZOFFSETTO:+0200
TZNAME:CEST
DTSTART:20260329T010000
END:DAYLIGHT
BEGIN:STANDARD
TZOFFSETFROM:+0200
TZOFFSETTO:+0100
TZNAME:CET
DTSTART:20261025T010000
END:STANDARD
END:VTIMEZONE
BEGIN:VTIMEZONE
TZID:UTC
BEGIN:STANDARD
TZOFFSETFROM:+0000
TZOFFSETTO:+0000
TZNAME:UTC
DTSTART:20240101T000000
END:STANDARD
END:VTIMEZONE
BEGIN:VEVENT
DTSTART;VALUE=DATE:20250909
DTEND;VALUE=DATE:20250913
DTSTAMP:20260420T131308
CREATED:20250120T100458Z
LAST-MODIFIED:20250303T164850Z
UID:10000034-1757376000-1757721599@www.yoctoproject.org
SUMMARY:Yocto Project and Open Embedded - Learn by doing - In-person course
DESCRIPTION:Everything you need to know to build your custom Linux system images for your own hardware. Learn how to create your own layers to reuse and override hardware vendor and community provided layers\, just providing what is specific to your project. \nWe use progressive but challenging practical labs\, as well as varied techniques to make the learning always stimulating and fun\, and above all to make it stick. At least 75% of the time is dedicated to practical activities. Sessions are limited to 8 participants to guarantee enough time to support every person.
URL:https://www.yoctoproject.org/event/yocto-project-and-open-embedded-learn-by-doing-in-person-course/
LOCATION:Hotel Mercure Pont Avignon\, Rue Ferruce\, Avignon\, 84000\, France
CATEGORIES:Yocto
ATTACH;FMTTYPE=image/jpeg:https://www.yoctoproject.org/wp-content/uploads/sites/32/2025/01/yocto-poster-avignon-1.jpg
ORGANIZER;CN="Root Commit":MAILTO:training@rootcommit.com
END:VEVENT
BEGIN:VEVENT
DTSTART;TZID=Europe/Vienna:20250916T090000
DTEND;TZID=Europe/Vienna:20250919T170000
DTSTAMP:20260420T131308
CREATED:20250818T193952Z
LAST-MODIFIED:20250818T193952Z
UID:10000069-1758013200-1758301200@www.yoctoproject.org
SUMMARY:The Yocto Project – A thorough Overview – online\, instructor-led
DESCRIPTION:You’ll get a much better understanding of the Yocto Project and how to use it.
URL:https://www.yoctoproject.org/event/the-yocto-project-a-thorough-overview-online-instructor-led-3/
LOCATION:Virtual
ATTACH;FMTTYPE=image/png:https://www.yoctoproject.org/wp-content/uploads/sites/32/2025/08/1920x1080-yocto-back-white-online-new.png
ORGANIZER;CN="Reliable Embedded Systems":MAILTO:info@reliableembeddedsystems.com
END:VEVENT
BEGIN:VEVENT
DTSTART;TZID=UTC:20250925T160000
DTEND;TZID=UTC:20250925T170000
DTSTAMP:20260420T131308
CREATED:20250918T103246Z
LAST-MODIFIED:20250918T103246Z
UID:10000078-1758816000-1758819600@www.yoctoproject.org
SUMMARY:Yocto in the Real World: Lessons from Industrial\, Consumer and Off-Highway Deployments
DESCRIPTION:The Yocto Project offers flexibility and control — but in real-world products\, that flexibility can quickly become complexity. In this session\, Witekio shares practical lessons learned from dozens of commercial Yocto implementations across industries such as industrial control\, home appliances\, medical devices\, and off-highway vehicles. We’ll discuss how product requirements shape Yocto choices\, where common pitfalls arise\, and how to structure Yocto projects for maintainability\, security\, and product longevity. Whether you’re starting your first Yocto-based product or scaling across multiple platforms\, this session offers pragmatic guidance from real deployments. \nThis is an online webinar recap of our talk given at The Yocto Project Dev Day in Amsterdam.
URL:https://www.yoctoproject.org/event/yocto-in-the-real-world-lessons-from-industrial-consumer-and-off-highway-deployments/
CATEGORIES:Yocto
ATTACH;FMTTYPE=image/png:https://www.yoctoproject.org/wp-content/uploads/sites/32/2025/09/yocto-in-the-real-world-webinar.png
ORGANIZER;CN="Witekio":MAILTO:hello@witekio.com
END:VEVENT
END:VCALENDAR