BEGIN:VCALENDAR
VERSION:2.0
PRODID:-//The Yocto Project - ECPv6.15.20//NONSGML v1.0//EN
CALSCALE:GREGORIAN
METHOD:PUBLISH
X-WR-CALNAME:The Yocto Project
X-ORIGINAL-URL:https://www.yoctoproject.org
X-WR-CALDESC:Events for The Yocto Project
REFRESH-INTERVAL;VALUE=DURATION:PT1H
X-Robots-Tag:noindex
X-PUBLISHED-TTL:PT1H
BEGIN:VTIMEZONE
TZID:Europe/Vienna
BEGIN:DAYLIGHT
TZOFFSETFROM:+0100
TZOFFSETTO:+0200
TZNAME:CEST
DTSTART:20240331T010000
END:DAYLIGHT
BEGIN:STANDARD
TZOFFSETFROM:+0200
TZOFFSETTO:+0100
TZNAME:CET
DTSTART:20241027T010000
END:STANDARD
BEGIN:DAYLIGHT
TZOFFSETFROM:+0100
TZOFFSETTO:+0200
TZNAME:CEST
DTSTART:20250330T010000
END:DAYLIGHT
BEGIN:STANDARD
TZOFFSETFROM:+0200
TZOFFSETTO:+0100
TZNAME:CET
DTSTART:20251026T010000
END:STANDARD
BEGIN:DAYLIGHT
TZOFFSETFROM:+0100
TZOFFSETTO:+0200
TZNAME:CEST
DTSTART:20260329T010000
END:DAYLIGHT
BEGIN:STANDARD
TZOFFSETFROM:+0200
TZOFFSETTO:+0100
TZNAME:CET
DTSTART:20261025T010000
END:STANDARD
END:VTIMEZONE
BEGIN:VTIMEZONE
TZID:UTC
BEGIN:STANDARD
TZOFFSETFROM:+0000
TZOFFSETTO:+0000
TZNAME:UTC
DTSTART:20240101T000000
END:STANDARD
END:VTIMEZONE
BEGIN:VEVENT
DTSTART;TZID=Europe/Vienna:20250804T090000
DTEND;TZID=Europe/Vienna:20250808T170000
DTSTAMP:20260423T183900
CREATED:20250619T084311Z
LAST-MODIFIED:20250619T084311Z
UID:10000065-1754298000-1754672400@www.yoctoproject.org
SUMMARY:Refresher to Embedded Linux & Intro to the Yocto Project – online\, instructor-led
DESCRIPTION:After a “Refresher to Embedded Linux (2 days)” you’ll see “How the Yocto Project works (3 days)”.
URL:https://www.yoctoproject.org/event/refresher-to-embedded-linux-intro-to-the-yocto-project-online-instructor-led/
LOCATION:Virtual
ATTACH;FMTTYPE=image/png:https://www.yoctoproject.org/wp-content/uploads/sites/32/2025/06/1920x1080-intely-back-white-online-new.png
ORGANIZER;CN="Reliable Embedded Systems":MAILTO:info@reliableembeddedsystems.com
END:VEVENT
BEGIN:VEVENT
DTSTART;TZID=Europe/Vienna:20250819T090000
DTEND;TZID=Europe/Vienna:20250819T170000
DTSTAMP:20260423T183900
CREATED:20250707T105811Z
LAST-MODIFIED:20250707T105812Z
UID:10000068-1755594000-1755622800@www.yoctoproject.org
SUMMARY:The Yocto Project – A thorough Overview – online\, instructor-led
DESCRIPTION:You’ll get a much better understanding of the Yocto Project and how to use it.
URL:https://www.yoctoproject.org/event/the-yocto-project-a-thorough-overview-online-instructor-led-2/
LOCATION:Virtual
CATEGORIES:Yocto
ATTACH;FMTTYPE=image/png:https://www.yoctoproject.org/wp-content/uploads/sites/32/2025/07/1920x1080-yocto-back-white-online-new.png
ORGANIZER;CN="Reliable Embedded Systems":MAILTO:info@reliableembeddedsystems.com
END:VEVENT
BEGIN:VEVENT
DTSTART;TZID=UTC:20250825T080000
DTEND;TZID=UTC:20250827T170000
DTSTAMP:20260423T183900
CREATED:20250219T040133Z
LAST-MODIFIED:20250219T040133Z
UID:10000046-1756108800-1756314000@www.yoctoproject.org
SUMMARY:Yocto Project Lounge at Open Source Summit Europe 2025
DESCRIPTION:Come kick it with fellow yoctis at the Yocto Project Lounge at Open Source Summit Europe 2025. Celebrate the project’s 15th birthday with special treats and sharing memories!
URL:https://www.yoctoproject.org/event/yocto-project-lounge-at-oss-eu-25/
LOCATION:RAI Amsterdam\, Europaplein 24\, Amsterdam\, Netherlands
CATEGORIES:Yocto
END:VEVENT
BEGIN:VEVENT
DTSTART;TZID=UTC:20250828T090000
DTEND;TZID=UTC:20250828T170000
DTSTAMP:20260423T183900
CREATED:20250612T155719Z
LAST-MODIFIED:20250625T160112Z
UID:10000063-1756371600-1756400400@www.yoctoproject.org
SUMMARY:Yocto Project Developer Day 2025
DESCRIPTION:Get ready for Yocto Project Developer Day 2025 in Amsterdam! This one-day presentation and hands-on training day puts you in direct contact with Yocto Project technical experts and developers. Come learn about creating\, customizing\, and optimizing Linux distributions for embedded devices using the rich features\, tools\, and content of Yocto Project. You’ll come away with a deeper understanding on topics like build system workflow\, embedded security\, working with containers\, building applications\, optimizing images\, hardening your devices\, and leveraging tools like devtool. \nThis event will take place the day after Open Source Summit Europe (Thursday\, August 28). To register for the Yocto Project Developer Day\, add it to your Open Source Summit Europe registration. \nNot attending OSS EU? Register for Yocto Project Developer Day separately here. \nThe Call for Proposals is open until July 31. Submit your proposal here.
URL:https://www.yoctoproject.org/event/yocto-project-developer-day-2025/
LOCATION:Andaz Amsterdam Prinsengracht\, Prinsengracht 587\, Amsterdam\, Netherlands
CATEGORIES:Yocto
ATTACH;FMTTYPE=image/png:https://www.yoctoproject.org/wp-content/uploads/sites/32/2025/06/YPdevday25snackable.png
END:VEVENT
END:VCALENDAR