BEGIN:VCALENDAR
VERSION:2.0
PRODID:-//The Yocto Project - ECPv6.15.20//NONSGML v1.0//EN
CALSCALE:GREGORIAN
METHOD:PUBLISH
X-WR-CALNAME:The Yocto Project
X-ORIGINAL-URL:https://www.yoctoproject.org
X-WR-CALDESC:Events for The Yocto Project
REFRESH-INTERVAL;VALUE=DURATION:PT1H
X-Robots-Tag:noindex
X-PUBLISHED-TTL:PT1H
BEGIN:VTIMEZONE
TZID:Europe/Vienna
BEGIN:DAYLIGHT
TZOFFSETFROM:+0100
TZOFFSETTO:+0200
TZNAME:CEST
DTSTART:20240331T010000
END:DAYLIGHT
BEGIN:STANDARD
TZOFFSETFROM:+0200
TZOFFSETTO:+0100
TZNAME:CET
DTSTART:20241027T010000
END:STANDARD
BEGIN:DAYLIGHT
TZOFFSETFROM:+0100
TZOFFSETTO:+0200
TZNAME:CEST
DTSTART:20250330T010000
END:DAYLIGHT
BEGIN:STANDARD
TZOFFSETFROM:+0200
TZOFFSETTO:+0100
TZNAME:CET
DTSTART:20251026T010000
END:STANDARD
BEGIN:DAYLIGHT
TZOFFSETFROM:+0100
TZOFFSETTO:+0200
TZNAME:CEST
DTSTART:20260329T010000
END:DAYLIGHT
BEGIN:STANDARD
TZOFFSETFROM:+0200
TZOFFSETTO:+0100
TZNAME:CET
DTSTART:20261025T010000
END:STANDARD
END:VTIMEZONE
BEGIN:VTIMEZONE
TZID:UTC
BEGIN:STANDARD
TZOFFSETFROM:+0000
TZOFFSETTO:+0000
TZNAME:UTC
DTSTART:20240101T000000
END:STANDARD
END:VTIMEZONE
BEGIN:VEVENT
DTSTART;TZID=Europe/Vienna:20250513T090000
DTEND;TZID=Europe/Vienna:20250516T170000
DTSTAMP:20260420T090538
CREATED:20250410T101246Z
LAST-MODIFIED:20250410T101246Z
UID:10000054-1747126800-1747414800@www.yoctoproject.org
SUMMARY:The Yocto Project – A thorough Overview – online
DESCRIPTION:You’ll get a much better understanding of the Yocto Project and how to use it.
URL:https://www.yoctoproject.org/event/the-yocto-project-a-thorough-overview-online-3/
LOCATION:Virtual
CATEGORIES:Yocto
ATTACH;FMTTYPE=image/png:https://www.yoctoproject.org/wp-content/uploads/sites/32/2025/04/1920x1080-yocto-back-white-online-new.png
ORGANIZER;CN="Reliable Embedded Systems":MAILTO:info@reliableembeddedsystems.com
END:VEVENT
BEGIN:VEVENT
DTSTART;TZID=UTC:20250515T140000
DTEND;TZID=UTC:20250521T180000
DTSTAMP:20260420T090538
CREATED:20250406T114721Z
LAST-MODIFIED:20250406T114721Z
UID:10000052-1747317600-1747850400@www.yoctoproject.org
SUMMARY:KOAN - Embedded Linux & Yocto Project online training
DESCRIPTION:We have scheduled a new session in May for our ONLINE course dedicated to Embedded Linux and the Yocto Project! 🚀 \nThis updated format will focus on NXP i.MX8 and QemuARM64. \n🛠️ Course Structure:\n✅ Full course (Linux + Yocto) – 5 afternoons (CET timezone)\n✅ Yocto-only module – 3 afternoons (CET timezone) \n📅 Dates: May 15-21\, 2024 \n🔹 Learn how to configure and use Linux\, the Yocto Project (with OpenEmbedded)\, git\, and bitbake to build an embedded Linux distribution from scratch. \n📌 More details at the link below\, or feel free to reach out for more info! \nThis course provides the essential knowledge to set up and use Linux and the Yocto Project (with OpenEmbedded)\, git\, and bitbake\, enabling you to build an embedded Linux distribution from scratch
URL:https://www.yoctoproject.org/event/koan-embedded-linux-yocto-project-online-training/
LOCATION:Virtual
CATEGORIES:Yocto
ATTACH;FMTTYPE=image/png:https://www.yoctoproject.org/wp-content/uploads/sites/32/2025/04/Koan-carusel-pcb-eng-2025-pagina-singola.png
ORGANIZER;CN="KOAN":MAILTO:info@koansoftware.com
END:VEVENT
BEGIN:VEVENT
DTSTART;TZID=UTC:20250516T080000
DTEND;TZID=UTC:20250516T170000
DTSTAMP:20260420T090538
CREATED:20250219T035825Z
LAST-MODIFIED:20250304T154417Z
UID:10000045-1747382400-1747414800@www.yoctoproject.org
SUMMARY:Yocto Project Workshop @ Embedded Recipes 2025
DESCRIPTION:Embedded Recipes\, taking place in Nice\, France from May 14 – 16 is hosted by BayLibre in 2025. The Yocto Project workshop will take place on Friday\, May 16 and is complimentary to attend (a simple interest form will launch soon). \nIf you wish to participate in Embedded Recipes sessions on Wednesday\, May 14 and Thursday\, May 15\, you are required to register (100€) with event organizers. \nNOTE: Seats are limited for Embedded Recipes (~200 seats) and for the Yocto Project workshop (~15 seats). \nMore details on Friday workshops are available here:\nhttps://embedded-recipes.org/2025/workshops/
URL:https://www.yoctoproject.org/event/embedded-recipes-workshop-25/
LOCATION:Parc Phœnix\, 405 Promenade des Anglais\, Nice\, France
CATEGORIES:Yocto
END:VEVENT
END:VCALENDAR