BEGIN:VCALENDAR
VERSION:2.0
PRODID:-//The Yocto Project - ECPv6.15.20//NONSGML v1.0//EN
CALSCALE:GREGORIAN
METHOD:PUBLISH
X-WR-CALNAME:The Yocto Project
X-ORIGINAL-URL:https://www.yoctoproject.org
X-WR-CALDESC:Events for The Yocto Project
REFRESH-INTERVAL;VALUE=DURATION:PT1H
X-Robots-Tag:noindex
X-PUBLISHED-TTL:PT1H
BEGIN:VTIMEZONE
TZID:UTC
BEGIN:STANDARD
TZOFFSETFROM:+0000
TZOFFSETTO:+0000
TZNAME:UTC
DTSTART:20240101T000000
END:STANDARD
END:VTIMEZONE
BEGIN:VTIMEZONE
TZID:Europe/Berlin
BEGIN:DAYLIGHT
TZOFFSETFROM:+0100
TZOFFSETTO:+0200
TZNAME:CEST
DTSTART:20240331T010000
END:DAYLIGHT
BEGIN:STANDARD
TZOFFSETFROM:+0200
TZOFFSETTO:+0100
TZNAME:CET
DTSTART:20241027T010000
END:STANDARD
BEGIN:DAYLIGHT
TZOFFSETFROM:+0100
TZOFFSETTO:+0200
TZNAME:CEST
DTSTART:20250330T010000
END:DAYLIGHT
BEGIN:STANDARD
TZOFFSETFROM:+0200
TZOFFSETTO:+0100
TZNAME:CET
DTSTART:20251026T010000
END:STANDARD
BEGIN:DAYLIGHT
TZOFFSETFROM:+0100
TZOFFSETTO:+0200
TZNAME:CEST
DTSTART:20260329T010000
END:DAYLIGHT
BEGIN:STANDARD
TZOFFSETFROM:+0200
TZOFFSETTO:+0100
TZNAME:CET
DTSTART:20261025T010000
END:STANDARD
END:VTIMEZONE
BEGIN:VTIMEZONE
TZID:Europe/Vienna
BEGIN:DAYLIGHT
TZOFFSETFROM:+0100
TZOFFSETTO:+0200
TZNAME:CEST
DTSTART:20240331T010000
END:DAYLIGHT
BEGIN:STANDARD
TZOFFSETFROM:+0200
TZOFFSETTO:+0100
TZNAME:CET
DTSTART:20241027T010000
END:STANDARD
BEGIN:DAYLIGHT
TZOFFSETFROM:+0100
TZOFFSETTO:+0200
TZNAME:CEST
DTSTART:20250330T010000
END:DAYLIGHT
BEGIN:STANDARD
TZOFFSETFROM:+0200
TZOFFSETTO:+0100
TZNAME:CET
DTSTART:20251026T010000
END:STANDARD
BEGIN:DAYLIGHT
TZOFFSETFROM:+0100
TZOFFSETTO:+0200
TZNAME:CEST
DTSTART:20260329T010000
END:DAYLIGHT
BEGIN:STANDARD
TZOFFSETFROM:+0200
TZOFFSETTO:+0100
TZNAME:CET
DTSTART:20261025T010000
END:STANDARD
END:VTIMEZONE
BEGIN:VEVENT
DTSTART;TZID=UTC:20250312T080000
DTEND;TZID=UTC:20250314T170000
DTSTAMP:20260420T111846
CREATED:20250219T033813Z
LAST-MODIFIED:20250304T152902Z
UID:10000042-1741766400-1741971600@www.yoctoproject.org
SUMMARY:Yocto Project @ Embedded World 2025
DESCRIPTION:Come find us in the Embedded World Sponsor Showcase (4-648) and celebrate our 15th birthday! Enjoy a coffee brewed by a Yocto Project powered machine (thank you Witekio!) and birthday cookies\, complete with Poky beavers. Interact with our Releases station\, snap a Poloroid picture to add to the Yocto Project yearbook\, and collect puzzle pieces from our partner stations around the hall!
URL:https://www.yoctoproject.org/event/yocto-project-embedded-world-2025/
LOCATION:NürnbergMesse GmbH\, Messezentrum 1\, Nürnberg\, 90471
CATEGORIES:Yocto
ATTACH;FMTTYPE=image/png:https://www.yoctoproject.org/wp-content/uploads/sites/32/2025/02/YPEWSnackable.png
END:VEVENT
BEGIN:VEVENT
DTSTART;TZID=Europe/Berlin:20250313T093000
DTEND;TZID=Europe/Berlin:20250313T163000
DTSTAMP:20260420T111846
CREATED:20241213T062040Z
LAST-MODIFIED:20241213T062313Z
UID:10000021-1741858200-1741883400@www.yoctoproject.org
SUMMARY:2025-03-13 Embedded World – Introduction to Embedded Linux Using a Yocto Project SDK
DESCRIPTION:This one-day training class uses hands-on exercises combined with instruction to illustrate some basic concepts of Embedded Linux. Hands-on sessions are performed on a remote host with a Yocto Project® SDK and on some hosted target hardware. The whole workshop is designed to bring you quickly up to speed. The concepts and commands necessary to make effective use of Embedded Linux are described through a combination of theory and hands-on training. Don’t re-invent the wheel\, but learn from an experienced trainer and take the newly acquired knowledge of Embedded Linux and the ability to effectively integrate it into your own embedded development projects back home.
URL:https://www.yoctoproject.org/event/2025-03-13-embedded-world-introduction-to-embedded-linux-using-a-yocto-project-sdk/
LOCATION:NürnbergMesse GmbH\, Messezentrum 1\, Nürnberg\, 90471
CATEGORIES:Yocto
ATTACH;FMTTYPE=image/png:https://www.yoctoproject.org/wp-content/uploads/sites/32/2024/12/ew-2025-1920x1080-1.png
ORGANIZER;CN="Reliable Embedded Systems":MAILTO:info@reliableembeddedsystems.com
END:VEVENT
BEGIN:VEVENT
DTSTART;TZID=Europe/Vienna:20250325T090000
DTEND;TZID=Europe/Vienna:20250328T170000
DTSTAMP:20260420T111846
CREATED:20250120T100101Z
LAST-MODIFIED:20250120T100101Z
UID:10000024-1742893200-1743181200@www.yoctoproject.org
SUMMARY:The Yocto Project – A thorough Overview – online
DESCRIPTION:You’ll get a much better understanding of the Yocto Project and how to use it.
URL:https://www.yoctoproject.org/event/the-yocto-project-a-thorough-overview-online/
LOCATION:Virtual
CATEGORIES:Yocto
ATTACH;FMTTYPE=image/png:https://www.yoctoproject.org/wp-content/uploads/sites/32/2025/01/1920x1080-yocto-back-white-online-new-1.png
ORGANIZER;CN="Reliable Embedded Systems":MAILTO:info@reliableembeddedsystems.com
END:VEVENT
BEGIN:VEVENT
DTSTART;TZID=Europe/Vienna:20250331T090000
DTEND;TZID=Europe/Vienna:20250404T170000
DTSTAMP:20260420T111846
CREATED:20250120T100116Z
LAST-MODIFIED:20250120T100116Z
UID:10000025-1743411600-1743786000@www.yoctoproject.org
SUMMARY:Refresher to Embedded Linux & Intro to the Yocto Project – online
DESCRIPTION:After a “Refresher to Embedded Linux (2 days)” you’ll see “How the Yocto Project works (3 days)”.
URL:https://www.yoctoproject.org/event/refresher-to-embedded-linux-intro-to-the-yocto-project-online/
LOCATION:Virtual
CATEGORIES:Yocto
ATTACH;FMTTYPE=image/png:https://www.yoctoproject.org/wp-content/uploads/sites/32/2025/01/1920x1080-intely-back-white-online-new.png
ORGANIZER;CN="Reliable Embedded Systems":MAILTO:info@reliableembeddedsystems.com
END:VEVENT
END:VCALENDAR