BEGIN:VCALENDAR
VERSION:2.0
PRODID:-//The Yocto Project - ECPv6.15.20//NONSGML v1.0//EN
CALSCALE:GREGORIAN
METHOD:PUBLISH
X-WR-CALNAME:The Yocto Project
X-ORIGINAL-URL:https://www.yoctoproject.org
X-WR-CALDESC:Events for The Yocto Project
REFRESH-INTERVAL;VALUE=DURATION:PT1H
X-Robots-Tag:noindex
X-PUBLISHED-TTL:PT1H
BEGIN:VTIMEZONE
TZID:UTC
BEGIN:STANDARD
TZOFFSETFROM:+0000
TZOFFSETTO:+0000
TZNAME:UTC
DTSTART:20240101T000000
END:STANDARD
END:VTIMEZONE
BEGIN:VTIMEZONE
TZID:Europe/Vienna
BEGIN:DAYLIGHT
TZOFFSETFROM:+0100
TZOFFSETTO:+0200
TZNAME:CEST
DTSTART:20240331T010000
END:DAYLIGHT
BEGIN:STANDARD
TZOFFSETFROM:+0200
TZOFFSETTO:+0100
TZNAME:CET
DTSTART:20241027T010000
END:STANDARD
BEGIN:DAYLIGHT
TZOFFSETFROM:+0100
TZOFFSETTO:+0200
TZNAME:CEST
DTSTART:20250330T010000
END:DAYLIGHT
BEGIN:STANDARD
TZOFFSETFROM:+0200
TZOFFSETTO:+0100
TZNAME:CET
DTSTART:20251026T010000
END:STANDARD
BEGIN:DAYLIGHT
TZOFFSETFROM:+0100
TZOFFSETTO:+0200
TZNAME:CEST
DTSTART:20260329T010000
END:DAYLIGHT
BEGIN:STANDARD
TZOFFSETFROM:+0200
TZOFFSETTO:+0100
TZNAME:CET
DTSTART:20261025T010000
END:STANDARD
END:VTIMEZONE
BEGIN:VEVENT
DTSTART;TZID=UTC:20250203T093000
DTEND;TZID=UTC:20250203T170000
DTSTAMP:20260420T194947
CREATED:20241126T124654Z
LAST-MODIFIED:20241213T062351Z
UID:10000012-1738575000-1738602000@www.yoctoproject.org
SUMMARY:OpenEmbedded Workshop 2025
DESCRIPTION:The OpenEmbedded Workshop is for developers\, maintainers\, and users to meet and present their work with OpenEmbedded and the Yocto Project. This is your chance to talk about your work with people that share your interest in embedded Linux\, build systems and products based on Linux or Zephyr/FreeRTOS. \nThe workshop is held on February 3\, 2025 in Brussels\, Belgium. The day after FOSDEM. \nThe Workshop is at Silversquare Delta in Brussels\, located at Av. Arnaud Fraiteur 15/23\, 1050 Ixelles\, Belgium. The room is called Lily-Rose. This is a new location! This is a short walk from the Delta subway station and across from the\nFraiteur bus stop\, served by the infamous 71 bus. Google pin: https://maps.app.goo.gl/iWmbAtohk8kVUCA78 \nTickets are 50 euros until Dec 31\, 2024 and 75 Euros after that in our [ticket shop]( https://pretix.eu/OpenEmbedded/OEW25/) There is a supporter option for people able to pay more to support OpenEmbedded. \nWho should attend:\n* Developers of Linux distributions for embedded devices\, containers and related products\n* People working with OpenEmbedded and the Yocto Project\n* Manufacturers providing software support for embedded Linux devices\n* Software developers deploying application to embedded devices\n* Security professionals interested in learning more about embedded software practices \nThe organizers would like to thank the [Yocto Project](https://www.yoctoproject.org/) for sponsoring lunch.
URL:https://www.yoctoproject.org/event/openembedded-workshop-2025/
CATEGORIES:Community
ATTACH;FMTTYPE=image/jpeg:https://www.yoctoproject.org/wp-content/uploads/sites/32/2024/11/PXL_20240205_132100688-scaled.jpg
ORGANIZER;CN="OpenEmbedded":MAILTO:board@openembedded.org
END:VEVENT
BEGIN:VEVENT
DTSTART;TZID=Europe/Vienna:20250218T090000
DTEND;TZID=Europe/Vienna:20250221T170000
DTSTAMP:20260420T194947
CREATED:20250115T194949Z
LAST-MODIFIED:20250115T194949Z
UID:10000023-1739869200-1740157200@www.yoctoproject.org
SUMMARY:The Yocto Project – A thorough Overview – online 4 day workshop
DESCRIPTION:You’ll get a much better understanding of the Yocto Project and how to use it.
URL:https://www.yoctoproject.org/event/the-yocto-project-a-thorough-overview-online-4-day-workshop/
LOCATION:Virtual
CATEGORIES:Yocto
ATTACH;FMTTYPE=image/png:https://www.yoctoproject.org/wp-content/uploads/sites/32/2025/01/1920x1080-yocto-back-white-online-new.png
ORGANIZER;CN="Reliable Embedded Systems":MAILTO:info@reliableembeddedsystems.com
END:VEVENT
BEGIN:VEVENT
DTSTART;TZID=UTC:20250220T140000
DTEND;TZID=UTC:20250226T180000
DTSTAMP:20260420T194947
CREATED:20250114T083206Z
LAST-MODIFIED:20250114T083206Z
UID:10000022-1740060000-1740592800@www.yoctoproject.org
SUMMARY:Linux embedded e Yocto Project – Corso online – FEB2025
DESCRIPTION:Abbiamo pubblicato per il mese di FEBBRAIO 2025 il corso KOAN che si svolgerà ONLINE in ITALIANO 🇮🇹 dedicato a Linux embedded 🐧 e Yocto Project. \nIl corso fa parte di un nuovo formato dove verrà presa in esame l’architettura NXP Semiconductors i.MX8 e QuemuARM64. \nIl corso è suddiviso in due parti per soddisfare sviluppatori più o meno esperti ed è possibile scegliere se partecipare al corso completo (Linux+Yocto) di 5 pomeriggi o solo ai 3 pomeriggi dedicati esclusivamente a Yocto. \nLe date sono 20-21 Febbraio per Linux embedded e 24\,25\,26 Febbraio per The Yocto Project\, A Linux Foundation Project \nQuesto corso fornisce le informazioni necessarie per configurare e utilizzare Linux e Yocto Project (e Openembedded)\, git e bitbake creando una distribuzione Linux embedded da zero. \nTutti i dettagli si trovano nel link seguente\, oppure contattaci per maggiori informazioni. \nhttps://koansoftware.com/training/linux-embedded-e-yocto-project-corso-online-feb2025/ \n🇺🇸 Note for English speakers: would you like to attend this course in English?\n🇬🇧 We are planning new dates for this! Contact us for more details. \n#corso #formazione #linux #embedded #yocto #openembedded #koan #koansoftware
URL:https://www.yoctoproject.org/event/linux-embedded-e-yocto-project-corso-online-feb2025/
LOCATION:Virtual
CATEGORIES:Yocto
ATTACH;FMTTYPE=image/png:https://www.yoctoproject.org/wp-content/uploads/sites/32/2025/01/Koan-carusel-pcb-ita-2024-singola.png
ORGANIZER;CN="KOAN":MAILTO:info@koansoftware.com
END:VEVENT
END:VCALENDAR