BEGIN:VCALENDAR
VERSION:2.0
PRODID:-//The Yocto Project - ECPv6.15.20//NONSGML v1.0//EN
CALSCALE:GREGORIAN
METHOD:PUBLISH
X-WR-CALNAME:The Yocto Project
X-ORIGINAL-URL:https://www.yoctoproject.org
X-WR-CALDESC:Events for The Yocto Project
REFRESH-INTERVAL;VALUE=DURATION:PT1H
X-Robots-Tag:noindex
X-PUBLISHED-TTL:PT1H
BEGIN:VTIMEZONE
TZID:Europe/Paris
BEGIN:DAYLIGHT
TZOFFSETFROM:+0100
TZOFFSETTO:+0200
TZNAME:CEST
DTSTART:20240331T010000
END:DAYLIGHT
BEGIN:STANDARD
TZOFFSETFROM:+0200
TZOFFSETTO:+0100
TZNAME:CET
DTSTART:20241027T010000
END:STANDARD
BEGIN:DAYLIGHT
TZOFFSETFROM:+0100
TZOFFSETTO:+0200
TZNAME:CEST
DTSTART:20250330T010000
END:DAYLIGHT
BEGIN:STANDARD
TZOFFSETFROM:+0200
TZOFFSETTO:+0100
TZNAME:CET
DTSTART:20251026T010000
END:STANDARD
BEGIN:DAYLIGHT
TZOFFSETFROM:+0100
TZOFFSETTO:+0200
TZNAME:CEST
DTSTART:20260329T010000
END:DAYLIGHT
BEGIN:STANDARD
TZOFFSETFROM:+0200
TZOFFSETTO:+0100
TZNAME:CET
DTSTART:20261025T010000
END:STANDARD
END:VTIMEZONE
BEGIN:VEVENT
DTSTART;VALUE=DATE:20251104
DTEND;VALUE=DATE:20251107
DTSTAMP:20260420T024703
CREATED:20250519T071636Z
LAST-MODIFIED:20250519T071636Z
UID:10000059-1762214400-1762473599@www.yoctoproject.org
SUMMARY:In-person  Yocto Project and OpenEmbedded System Development training
DESCRIPTION:An in-person training session based on Bootlin’s Yocto Project and OpenEmbedded development training\, detailed at https://bootlin.com/training/yocto/. This comprehensive course spans 3 full days (8 hours per day) and includes a total of 24 hours of training. \nThe sessions will alternate between lectures and hands-on practical work\, allowing participants to directly apply the concepts learned\, with the help of our experienced trainer. The practical labs represent 50% to 60% of the whole course time and will be conducted using the ARM-based STMicroelectronics STM32MP157D-DK1 platform. Even though this particular platform is used for the hands-on work\, the course content is designed to be applicable to any hardware platform relevant to your projects.
URL:https://www.yoctoproject.org/event/in-person-yocto-project-and-openembedded-system-development-training/
LOCATION:Lyon\, 7 Pl. Charles Hernu\, Lyon\, 31770\, France
CATEGORIES:Yocto
ORGANIZER;CN="Bootlin":MAILTO:training@bootlin.com
END:VEVENT
END:VCALENDAR