BEGIN:VCALENDAR
VERSION:2.0
PRODID:-//The Yocto Project - ECPv6.15.20//NONSGML v1.0//EN
CALSCALE:GREGORIAN
METHOD:PUBLISH
X-WR-CALNAME:The Yocto Project
X-ORIGINAL-URL:https://www.yoctoproject.org
X-WR-CALDESC:Events for The Yocto Project
REFRESH-INTERVAL;VALUE=DURATION:PT1H
X-Robots-Tag:noindex
X-PUBLISHED-TTL:PT1H
BEGIN:VTIMEZONE
TZID:UTC
BEGIN:STANDARD
TZOFFSETFROM:+0000
TZOFFSETTO:+0000
TZNAME:UTC
DTSTART:20240101T000000
END:STANDARD
END:VTIMEZONE
BEGIN:VTIMEZONE
TZID:Europe/Vienna
BEGIN:DAYLIGHT
TZOFFSETFROM:+0100
TZOFFSETTO:+0200
TZNAME:CEST
DTSTART:20240331T010000
END:DAYLIGHT
BEGIN:STANDARD
TZOFFSETFROM:+0200
TZOFFSETTO:+0100
TZNAME:CET
DTSTART:20241027T010000
END:STANDARD
BEGIN:DAYLIGHT
TZOFFSETFROM:+0100
TZOFFSETTO:+0200
TZNAME:CEST
DTSTART:20250330T010000
END:DAYLIGHT
BEGIN:STANDARD
TZOFFSETFROM:+0200
TZOFFSETTO:+0100
TZNAME:CET
DTSTART:20251026T010000
END:STANDARD
BEGIN:DAYLIGHT
TZOFFSETFROM:+0100
TZOFFSETTO:+0200
TZNAME:CEST
DTSTART:20260329T010000
END:DAYLIGHT
BEGIN:STANDARD
TZOFFSETFROM:+0200
TZOFFSETTO:+0100
TZNAME:CET
DTSTART:20261025T010000
END:STANDARD
END:VTIMEZONE
BEGIN:VEVENT
DTSTART;TZID=UTC:20250623T080000
DTEND;TZID=UTC:20250625T170000
DTSTAMP:20260420T070941
CREATED:20250219T034030Z
LAST-MODIFIED:20250225T164923Z
UID:10000043-1750665600-1750870800@www.yoctoproject.org
SUMMARY:Yocto Project Lounge at Open Source Summit North America 2025
DESCRIPTION:Come kick it with fellow yoctis at the Yocto Project Lounge at Open Source Summit North America 2025. Celebrate the project’s 15th birthday with special treats and sharing memories!
URL:https://www.yoctoproject.org/event/yocto-project-lounge-at-open-source-summit-north-america-2025/
LOCATION:Colorado Convention Center\, Denver\, CO\, United States
CATEGORIES:Yocto
ATTACH;FMTTYPE=image/jpeg:https://www.yoctoproject.org/wp-content/uploads/sites/32/2025/02/OSSNAYPSnackable-scaled.jpg
END:VEVENT
BEGIN:VEVENT
DTSTART;TZID=Europe/Vienna:20250624T090000
DTEND;TZID=Europe/Vienna:20250627T170000
DTSTAMP:20260420T070941
CREATED:20250410T101313Z
LAST-MODIFIED:20250410T101313Z
UID:10000055-1750755600-1751043600@www.yoctoproject.org
SUMMARY:The Yocto Project – A thorough Overview – online
DESCRIPTION:You’ll get a much better understanding of the Yocto Project and how to use it.
URL:https://www.yoctoproject.org/event/the-yocto-project-a-thorough-overview-online-4/
LOCATION:Virtual
CATEGORIES:Yocto
ATTACH;FMTTYPE=image/png:https://www.yoctoproject.org/wp-content/uploads/sites/32/2025/04/1920x1080-yocto-back-white-online-new-1.png
ORGANIZER;CN="Reliable Embedded Systems":MAILTO:info@reliableembeddedsystems.com
END:VEVENT
END:VCALENDAR