BEGIN:VCALENDAR
VERSION:2.0
PRODID:-//The Yocto Project - ECPv6.15.20//NONSGML v1.0//EN
CALSCALE:GREGORIAN
METHOD:PUBLISH
X-WR-CALNAME:The Yocto Project
X-ORIGINAL-URL:https://www.yoctoproject.org
X-WR-CALDESC:Events for The Yocto Project
REFRESH-INTERVAL;VALUE=DURATION:PT1H
X-Robots-Tag:noindex
X-PUBLISHED-TTL:PT1H
BEGIN:VTIMEZONE
TZID:UTC
BEGIN:STANDARD
TZOFFSETFROM:+0000
TZOFFSETTO:+0000
TZNAME:UTC
DTSTART:20240101T000000
END:STANDARD
END:VTIMEZONE
BEGIN:VEVENT
DTSTART;TZID=UTC:20250312T080000
DTEND;TZID=UTC:20250314T170000
DTSTAMP:20260420T121109
CREATED:20250219T033813Z
LAST-MODIFIED:20250304T152902Z
UID:10000042-1741766400-1741971600@www.yoctoproject.org
SUMMARY:Yocto Project @ Embedded World 2025
DESCRIPTION:Come find us in the Embedded World Sponsor Showcase (4-648) and celebrate our 15th birthday! Enjoy a coffee brewed by a Yocto Project powered machine (thank you Witekio!) and birthday cookies\, complete with Poky beavers. Interact with our Releases station\, snap a Poloroid picture to add to the Yocto Project yearbook\, and collect puzzle pieces from our partner stations around the hall!
URL:https://www.yoctoproject.org/event/yocto-project-embedded-world-2025/
LOCATION:NürnbergMesse GmbH\, Messezentrum 1\, Nürnberg\, 90471
CATEGORIES:Yocto
ATTACH;FMTTYPE=image/png:https://www.yoctoproject.org/wp-content/uploads/sites/32/2025/02/YPEWSnackable.png
END:VEVENT
END:VCALENDAR