BEGIN:VCALENDAR
VERSION:2.0
PRODID:-//The Yocto Project - ECPv6.15.20//NONSGML v1.0//EN
CALSCALE:GREGORIAN
METHOD:PUBLISH
X-WR-CALNAME:The Yocto Project
X-ORIGINAL-URL:https://www.yoctoproject.org
X-WR-CALDESC:Events for The Yocto Project
REFRESH-INTERVAL;VALUE=DURATION:PT1H
X-Robots-Tag:noindex
X-PUBLISHED-TTL:PT1H
BEGIN:VTIMEZONE
TZID:UTC
BEGIN:STANDARD
TZOFFSETFROM:+0000
TZOFFSETTO:+0000
TZNAME:UTC
DTSTART:20230101T000000
END:STANDARD
END:VTIMEZONE
BEGIN:VEVENT
DTSTART;VALUE=DATE:20240416
DTEND;VALUE=DATE:20240419
DTSTAMP:20260420T044516
CREATED:20240308T211835Z
LAST-MODIFIED:20240308T211835Z
UID:10000009-1713225600-1713484799@www.yoctoproject.org
SUMMARY:Yocto Project at Embedded Open Source Summit
DESCRIPTION:Yocto Project is exhibiting at Embedded Open Source Summit. We can’t wait to convene on all things Embedded and see our fellow yoctis!
URL:https://www.yoctoproject.org/event/yocto-project-at-embedded-open-source-summit/
LOCATION:Seattle Convention Center | Summit Building\, 900 Pine St\, Seattle\, WA\, 98101\, United States
CATEGORIES:Yocto
ATTACH;FMTTYPE=image/png:https://www.yoctoproject.org/wp-content/uploads/sites/32/2024/03/Copy-of-Yocto-Header-EW-2024.png
END:VEVENT
END:VCALENDAR