BEGIN:VCALENDAR
VERSION:2.0
PRODID:-//The Yocto Project - ECPv6.15.20//NONSGML v1.0//EN
CALSCALE:GREGORIAN
METHOD:PUBLISH
X-ORIGINAL-URL:https://www.yoctoproject.org
X-WR-CALDESC:Events for The Yocto Project
REFRESH-INTERVAL;VALUE=DURATION:PT1H
X-Robots-Tag:noindex
X-PUBLISHED-TTL:PT1H
BEGIN:VTIMEZONE
TZID:America/Denver
BEGIN:DAYLIGHT
TZOFFSETFROM:-0700
TZOFFSETTO:-0600
TZNAME:MDT
DTSTART:20230312T090000
END:DAYLIGHT
BEGIN:STANDARD
TZOFFSETFROM:-0600
TZOFFSETTO:-0700
TZNAME:MST
DTSTART:20231105T080000
END:STANDARD
BEGIN:DAYLIGHT
TZOFFSETFROM:-0700
TZOFFSETTO:-0600
TZNAME:MDT
DTSTART:20240310T090000
END:DAYLIGHT
BEGIN:STANDARD
TZOFFSETFROM:-0600
TZOFFSETTO:-0700
TZNAME:MST
DTSTART:20241103T080000
END:STANDARD
BEGIN:DAYLIGHT
TZOFFSETFROM:-0700
TZOFFSETTO:-0600
TZNAME:MDT
DTSTART:20250309T090000
END:DAYLIGHT
BEGIN:STANDARD
TZOFFSETFROM:-0600
TZOFFSETTO:-0700
TZNAME:MST
DTSTART:20251102T080000
END:STANDARD
END:VTIMEZONE
BEGIN:VEVENT
DTSTART;TZID=America/Denver:20240415T133000
DTEND;TZID=America/Denver:20240415T170000
DTSTAMP:20260422T040706
CREATED:20240307T233158Z
LAST-MODIFIED:20240308T215441Z
UID:10000007-1713187800-1713200400@www.yoctoproject.org
SUMMARY:Yocto Project: Journey to Scarthgap 5.0 Mini Summit at EOSS
DESCRIPTION:Join Yocto Project on a journey to Scarthgap 5.0 in this half day mini summit where we’ll deep dive into upcoming features and improvements in the upcoming LTS release. \nThis mini summit is co-located with Embedded Open Source Summit and Open Source Summit North America. You must be registered for EOSS/OSSNA to be eligible for registration. Start a new registration or edit an existing registration here – mini summit registration is $10.
URL:https://www.yoctoproject.org/event/yocto-project-journey-to-scarthgap-5-0-mini-summit/
LOCATION:Seattle Convention Center | Summit Building\, 900 Pine St\, Seattle\, WA\, 98101\, United States
CATEGORIES:Yocto
ATTACH;FMTTYPE=image/png:https://www.yoctoproject.org/wp-content/uploads/sites/32/2024/03/EW-2024-Scarthgap-YP-Sticker-1500-x-750-mm-1.png
END:VEVENT
END:VCALENDAR