BEGIN:VCALENDAR
VERSION:2.0
PRODID:-//The Yocto Project - ECPv6.15.20//NONSGML v1.0//EN
CALSCALE:GREGORIAN
METHOD:PUBLISH
X-WR-CALNAME:The Yocto Project
X-ORIGINAL-URL:https://www.yoctoproject.org
X-WR-CALDESC:Events for The Yocto Project
REFRESH-INTERVAL;VALUE=DURATION:PT1H
X-Robots-Tag:noindex
X-PUBLISHED-TTL:PT1H
BEGIN:VTIMEZONE
TZID:America/Los_Angeles
BEGIN:DAYLIGHT
TZOFFSETFROM:-0800
TZOFFSETTO:-0700
TZNAME:PDT
DTSTART:20220313T100000
END:DAYLIGHT
BEGIN:STANDARD
TZOFFSETFROM:-0700
TZOFFSETTO:-0800
TZNAME:PST
DTSTART:20221106T090000
END:STANDARD
BEGIN:DAYLIGHT
TZOFFSETFROM:-0800
TZOFFSETTO:-0700
TZNAME:PDT
DTSTART:20230312T100000
END:DAYLIGHT
BEGIN:STANDARD
TZOFFSETFROM:-0700
TZOFFSETTO:-0800
TZNAME:PST
DTSTART:20231105T090000
END:STANDARD
BEGIN:DAYLIGHT
TZOFFSETFROM:-0800
TZOFFSETTO:-0700
TZNAME:PDT
DTSTART:20240310T100000
END:DAYLIGHT
BEGIN:STANDARD
TZOFFSETFROM:-0700
TZOFFSETTO:-0800
TZNAME:PST
DTSTART:20241103T090000
END:STANDARD
END:VTIMEZONE
BEGIN:VEVENT
DTSTART;VALUE=DATE:20231128
DTEND;VALUE=DATE:20231201
DTSTAMP:20260420T035625
CREATED:20231030T182326Z
LAST-MODIFIED:20231101T210537Z
UID:10000006-1701129600-1701388799@www.yoctoproject.org
SUMMARY:Yocto Project Summit 2023.11
DESCRIPTION:The Yocto Project Virtual Summit is a virtual technical conference for engineers\, open source technologists\, students and academia in the OSS space. This 3-day event is where individuals will learn about Yocto Projects’ direction — including\, but not limited to\, new releases\, development tools\, features — get training on the next wave of embedded Linux technologies (segment previously known as Yocto Project Developer Day)\, and network with their industry peers\, Yocto Project maintainers\, OpenEmbedded maintainers and experts. \nFormerly known as the Yocto Project Developer Day\, the Yocto Project Virtual Summit has an expanded scope which includes both workshops for engineers building customized Linux distributions and applications\, as well as an open forum where maintainers\, trainers\, and users present papers on how the project is evolving and how they are using it. \nThere is also a Beginners Track for people who are new to Yocto Project and OpenEmbedded.
URL:https://www.yoctoproject.org/event/yocto-project-summit-2023-11/
LOCATION:Virtual
CATEGORIES:Yocto
ATTACH;FMTTYPE=image/png:https://www.yoctoproject.org/wp-content/uploads/sites/32/2023/10/yps.png
END:VEVENT
END:VCALENDAR